BEGIN:VCALENDAR
VERSION:2.0
PRODID:-//Heimatverein Grünheide (Mark) e.V. - ECPv6.15.20//NONSGML v1.0//EN
CALSCALE:GREGORIAN
METHOD:PUBLISH
X-WR-CALNAME:Heimatverein Grünheide (Mark) e.V.
X-ORIGINAL-URL:https://heimatverein-gruenheide.de
X-WR-CALDESC:Veranstaltungen für Heimatverein Grünheide (Mark) e.V.
REFRESH-INTERVAL;VALUE=DURATION:PT1H
X-Robots-Tag:noindex
X-PUBLISHED-TTL:PT1H
BEGIN:VTIMEZONE
TZID:Europe/Berlin
BEGIN:DAYLIGHT
TZOFFSETFROM:+0100
TZOFFSETTO:+0200
TZNAME:CEST
DTSTART:20250330T010000
END:DAYLIGHT
BEGIN:STANDARD
TZOFFSETFROM:+0200
TZOFFSETTO:+0100
TZNAME:CET
DTSTART:20251026T010000
END:STANDARD
BEGIN:DAYLIGHT
TZOFFSETFROM:+0100
TZOFFSETTO:+0200
TZNAME:CEST
DTSTART:20260329T010000
END:DAYLIGHT
BEGIN:STANDARD
TZOFFSETFROM:+0200
TZOFFSETTO:+0100
TZNAME:CET
DTSTART:20261025T010000
END:STANDARD
BEGIN:DAYLIGHT
TZOFFSETFROM:+0100
TZOFFSETTO:+0200
TZNAME:CEST
DTSTART:20270328T010000
END:DAYLIGHT
BEGIN:STANDARD
TZOFFSETFROM:+0200
TZOFFSETTO:+0100
TZNAME:CET
DTSTART:20271031T010000
END:STANDARD
END:VTIMEZONE
BEGIN:VEVENT
DTSTART;TZID=Europe/Berlin:20260131T140000
DTEND;TZID=Europe/Berlin:20260131T160000
DTSTAMP:20260425T230005
CREATED:20260105T152742Z
LAST-MODIFIED:20260105T155728Z
UID:1042-1769868000-1769875200@heimatverein-gruenheide.de
SUMMARY:Das Leben der Kraniche im Brandenburger Land
DESCRIPTION:Der Heimatverein Grünheide (Mark) e.V. lädt zu einem DIA-Vortrag ein. \nUnter dem Titel „Das Leben der Kraniche im Brandenburger Land“ berichtet Herr Christian Kessler anhand eindrucksvoller Aufnahmen über das Leben\, das Zugverhalten und die Lebensräume der Kraniche in unserer Region. Der Vortrag bietet spannende Einblicke in die Natur Brandenburgs und richtet sich an alle Natur- und Heimatinteressierten.
URL:https://heimatverein-gruenheide.de/veranstaltung/das-leben-der-kraniche-im-brandenburger-land/
LOCATION:Heimatstube im Robert-Havemann-Klubhaus\, An der Alten Schule 2\, Grünheide (Mark)\, Brandenburg\, 15537
ATTACH;FMTTYPE=image/jpeg:https://heimatverein-gruenheide.de/wp-content/uploads/2026/01/Kraniche-scaled.jpg
END:VEVENT
END:VCALENDAR