BEGIN:VCALENDAR
VERSION:2.0
PRODID:-//Heimatverein Grünheide (Mark) e.V. - ECPv6.15.20//NONSGML v1.0//EN
CALSCALE:GREGORIAN
METHOD:PUBLISH
X-ORIGINAL-URL:https://heimatverein-gruenheide.de
X-WR-CALDESC:Veranstaltungen für Heimatverein Grünheide (Mark) e.V.
REFRESH-INTERVAL;VALUE=DURATION:PT1H
X-Robots-Tag:noindex
X-PUBLISHED-TTL:PT1H
BEGIN:VTIMEZONE
TZID:Europe/Berlin
BEGIN:DAYLIGHT
TZOFFSETFROM:+0100
TZOFFSETTO:+0200
TZNAME:CEST
DTSTART:20250330T010000
END:DAYLIGHT
BEGIN:STANDARD
TZOFFSETFROM:+0200
TZOFFSETTO:+0100
TZNAME:CET
DTSTART:20251026T010000
END:STANDARD
BEGIN:DAYLIGHT
TZOFFSETFROM:+0100
TZOFFSETTO:+0200
TZNAME:CEST
DTSTART:20260329T010000
END:DAYLIGHT
BEGIN:STANDARD
TZOFFSETFROM:+0200
TZOFFSETTO:+0100
TZNAME:CET
DTSTART:20261025T010000
END:STANDARD
BEGIN:DAYLIGHT
TZOFFSETFROM:+0100
TZOFFSETTO:+0200
TZNAME:CEST
DTSTART:20270328T010000
END:DAYLIGHT
BEGIN:STANDARD
TZOFFSETFROM:+0200
TZOFFSETTO:+0100
TZNAME:CET
DTSTART:20271031T010000
END:STANDARD
END:VTIMEZONE
BEGIN:VEVENT
DTSTART;TZID=Europe/Berlin:20260509T150000
DTEND;TZID=Europe/Berlin:20260509T150000
DTSTAMP:20260425T164249
CREATED:20260304T151822Z
LAST-MODIFIED:20260304T195646Z
UID:1169-1778338800-1778338800@heimatverein-gruenheide.de
SUMMARY:Lesung: Lebensbornkinder – Lügen und Scham
DESCRIPTION:Prof. Dr. Dirk Kaesler liest aus seinem Werk über Lebensbornkinder\, deren Identitätssuche und die Jahrzehnte des Verschweigens. Ein sensibles Thema\, das bewegende Lebensgeschichten und gesellschaftliche Fragen miteinander verbindet. Wir laden herzlich ein zu einem nachdenklichen Nachmittag – mit anschließender Kaffeerunde in der Heimatstube.
URL:https://heimatverein-gruenheide.de/veranstaltung/lesung-lebensbornkinder-luegen-und-scham/
LOCATION:Heimatstube im Robert-Havemann-Klubhaus\, An der Alten Schule 2\, Grünheide (Mark)\, Brandenburg\, 15537
ATTACH;FMTTYPE=image/jpeg:https://heimatverein-gruenheide.de/wp-content/uploads/2026/03/Lebensborn-Symbolbild-scaled.jpg
END:VEVENT
BEGIN:VEVENT
DTSTART;TZID=Europe/Berlin:20260613T140000
DTEND;TZID=Europe/Berlin:20260613T140000
DTSTAMP:20260425T164249
CREATED:20260304T151805Z
LAST-MODIFIED:20260304T151805Z
UID:1178-1781359200-1781359200@heimatverein-gruenheide.de
SUMMARY:Geschichte und Geschichten am Spreebord
DESCRIPTION:Lutz Holst nimmt uns mit auf eine lebendige Reise durch die Vergangenheit des Spreeufers – mit historischen Anekdoten\, wenig bekannten Details und charmanten Blicken hinter die Kulissen lokaler Entwicklungen. Ein Nachmittag für alle\, die Heimatgeschichte lieben. Danach freuen wir uns auf Gespräche bei Kaffee und Gebäck.
URL:https://heimatverein-gruenheide.de/veranstaltung/geschichte-und-geschichten-am-spreebord/
LOCATION:Heimatstube im Robert-Havemann-Klubhaus\, An der Alten Schule 2\, Grünheide (Mark)\, Brandenburg\, 15537
ATTACH;FMTTYPE=image/jpeg:https://heimatverein-gruenheide.de/wp-content/uploads/2026/03/Spreebord-scaled.jpg
END:VEVENT
BEGIN:VEVENT
DTSTART;TZID=Europe/Berlin:20260808T000000
DTEND;TZID=Europe/Berlin:20260809T235959
DTSTAMP:20260425T164249
CREATED:20260304T152102Z
LAST-MODIFIED:20260304T152102Z
UID:1182-1786147200-1786319999@heimatverein-gruenheide.de
SUMMARY:Ausstellung zum Heimatfest: Gemälde von Marion Sander
DESCRIPTION:Die Künstlerin Marion Sander präsentiert ihre Werke zum Heimatfest – farbenreiche Impressionen und stimmungsvolle Landschaftsbilder aus unserer Region.
URL:https://heimatverein-gruenheide.de/veranstaltung/ausstellung-zum-heimatfest-gemaelde-von-marion-sander/
LOCATION:Heimatstube im Robert-Havemann-Klubhaus\, An der Alten Schule 2\, Grünheide (Mark)\, Brandenburg\, 15537
END:VEVENT
BEGIN:VEVENT
DTSTART;TZID=Europe/Berlin:20261017T140000
DTEND;TZID=Europe/Berlin:20261017T140000
DTSTAMP:20260425T164249
CREATED:20260304T152201Z
LAST-MODIFIED:20260304T152201Z
UID:1184-1792245600-1792245600@heimatverein-gruenheide.de
SUMMARY:Die Lindwallinsel im Laufe der Zeit
DESCRIPTION:Albrecht Köhler zeigt die wechselvolle Geschichte der Lindwallinsel – von frühen Nutzungen bis zu heutigen Besonderheiten dieses Natur- und Kulturraums. Ein informativer Vortrag für alle\, die Grünheide besser verstehen möchten. Anschließend freuen wir uns auf das gemütliche Beisammensein bei Kaffee.
URL:https://heimatverein-gruenheide.de/veranstaltung/die-lindwallinsel-im-laufe-der-zeit/
LOCATION:Heimatstube im Robert-Havemann-Klubhaus\, An der Alten Schule 2\, Grünheide (Mark)\, Brandenburg\, 15537
END:VEVENT
BEGIN:VEVENT
DTSTART;TZID=Europe/Berlin:20261121T140000
DTEND;TZID=Europe/Berlin:20261121T140000
DTSTAMP:20260425T164249
CREATED:20260304T152306Z
LAST-MODIFIED:20260304T152306Z
UID:1186-1795269600-1795269600@heimatverein-gruenheide.de
SUMMARY:Gewässer und Brücken im Gebiet Grünheide
DESCRIPTION:Gerd Ritter führt uns durch die Wasserlandschaften unseres Ortes und berichtet über Brücken\, ihre Bedeutung und ihre Entwicklung im Laufe der Jahrzehnte. Ein Stück Heimatkunde\, das viele neue Einblicke eröffnet. Danach laden wir herzlich zur gemeinsamen Kaffeetafel ein.
URL:https://heimatverein-gruenheide.de/veranstaltung/gewaesser-und-bruecken-im-gebiet-gruenheide/
LOCATION:Heimatstube im Robert-Havemann-Klubhaus\, An der Alten Schule 2\, Grünheide (Mark)\, Brandenburg\, 15537
END:VEVENT
BEGIN:VEVENT
DTSTART;TZID=Europe/Berlin:20261128T140000
DTEND;TZID=Europe/Berlin:20261128T140000
DTSTAMP:20260425T164249
CREATED:20260304T152405Z
LAST-MODIFIED:20260304T152513Z
UID:1188-1795874400-1795874400@heimatverein-gruenheide.de
SUMMARY:Kaffeetafel zum Jahresausklang
DESCRIPTION:Bei unserer traditionellen Kaffeetafel lassen wir das Jahr in geselliger Atmosphäre ausklingen. Ein kleines Unterhaltungsprogramm sorgt für Freude und heitere Momente\, bevor wir gemeinsam in die Adventszeit starten. Wir freuen uns auf ein warmes Miteinander zum Jahresabschluss.
URL:https://heimatverein-gruenheide.de/veranstaltung/kaffeetafel-zum-jahresausklang/
LOCATION:Wirtshaus Heidereuter am Peetzsee\, Karl-Marx-Straße 9\, Grünheide (Mark)\, Brandenburg\, 15537\, Germany
END:VEVENT
END:VCALENDAR